BEGIN:VCALENDAR
VERSION:2.0
PRODID:-//Moje Đakovo - ECPv6.15.18//NONSGML v1.0//EN
CALSCALE:GREGORIAN
METHOD:PUBLISH
X-WR-CALNAME:Moje Đakovo
X-ORIGINAL-URL:https://moje-djakovo.com
X-WR-CALDESC:Događaji za Moje Đakovo
REFRESH-INTERVAL;VALUE=DURATION:PT1H
X-Robots-Tag:noindex
X-PUBLISHED-TTL:PT1H
BEGIN:VTIMEZONE
TZID:Europe/Zagreb
BEGIN:DAYLIGHT
TZOFFSETFROM:+0100
TZOFFSETTO:+0200
TZNAME:CEST
DTSTART:20250330T010000
END:DAYLIGHT
BEGIN:STANDARD
TZOFFSETFROM:+0200
TZOFFSETTO:+0100
TZNAME:CET
DTSTART:20251026T010000
END:STANDARD
BEGIN:DAYLIGHT
TZOFFSETFROM:+0100
TZOFFSETTO:+0200
TZNAME:CEST
DTSTART:20260329T010000
END:DAYLIGHT
BEGIN:STANDARD
TZOFFSETFROM:+0200
TZOFFSETTO:+0100
TZNAME:CET
DTSTART:20261025T010000
END:STANDARD
BEGIN:DAYLIGHT
TZOFFSETFROM:+0100
TZOFFSETTO:+0200
TZNAME:CEST
DTSTART:20270328T010000
END:DAYLIGHT
BEGIN:STANDARD
TZOFFSETFROM:+0200
TZOFFSETTO:+0100
TZNAME:CET
DTSTART:20271031T010000
END:STANDARD
END:VTIMEZONE
BEGIN:VEVENT
DTSTART;VALUE=DATE:20260424
DTEND;VALUE=DATE:20260425
DTSTAMP:20260424T121405
CREATED:20260311T063526Z
LAST-MODIFIED:20260311T063600Z
UID:62254-1776988800-1777075199@moje-djakovo.com
SUMMARY:21. SALORI – sajam lova\, ribolova i turizma
DESCRIPTION:U prostoru Gospodarskog centra u Osijeku od petka\, 24. travnja do nedjelje\, 26. travnja održat će se 21. SALORI – sajam lova\, ribolova i turizma\, događanje koje svake godine okuplja ljubitelje lova\, ribolova\, prirode i boravka na otvorenom. \nSALORI već više od dva desetljeća predstavlja mjesto susreta struke\, proizvođača opreme i svih zaljubljenika u prirodu\, promovirajući bogatstvo lovne\, ribolovne i turističke ponude kontinentalne Hrvatske. \nTijekom tri dana sajma posjetitelje očekuje zanimljiv program i raznovrsna ponuda izlagača\, od predstavljanja lovačkih i ribolovnih saveza i društava\, preko opreme za lov i ribolov\, do sadržaja vezanih uz kontinentalni turizam i boravak u prirodi. Sajam donosi popratne sadržaje poput edukativnih radionica\, gastronomske ponude te aktivnosti namijenjenih svim generacijama. \nOrganizatori sajma su Osječko-baranjska županija i Gospodarski centar Osječko-baranjske županije d.o.o.\, u suradnji s Hrvatskim lovačkim savezom\, Lovačkim savezom Osječko-baranjske županije te Hrvatskim športsko ribolovnim savezom. \nPozivamo sve zainteresirane izlagače\, proizvođače i distributere lovačke i ribolovne opreme\, turističke zajednice\, OPG-ove\, obrtnike\, udruge i sve koji žele predstaviti proizvode i usluge povezane s boravkom u prirodi da se prijave za sudjelovanje na ovogodišnjem izdanju sajma SALORI. \nSudjelovanje na sajmu pruža priliku za: \n\npredstavljanje proizvoda i usluga širokoj publici\npovezivanje s partnerima iz sektora lova\, ribolova i turizma\npromociju brenda i novih proizvoda\n\nPrijavnicu za izlagače možete preuzeti ovdje. \nIzvor: Gospodarski centar Osječko-baranjske županije\nFoto: Osijek.in
URL:https://moje-djakovo.com/dogadaji/21-salori-sajam-lova-ribolova-i-turizma/
LOCATION:Gospodarski centar Osječko-baranjske županije\, Gospodarski centar Osječko-baranjske županije\, Osijek\, Hrvatska\, 31000\, Croatia (Local Name: Hrvatska)
CATEGORIES:Gospodarstvo,Sva događanja
ATTACH;FMTTYPE=image/png:https://moje-djakovo.com/wp-content/uploads/2025/02/Gospodarski-centar-OBZ_Foto_Osijek.in_.png
END:VEVENT
BEGIN:VEVENT
DTSTART;TZID=Europe/Zagreb:20260424T190000
DTEND;TZID=Europe/Zagreb:20260424T210000
DTSTAMP:20260424T121405
CREATED:20260415T082231Z
LAST-MODIFIED:20260415T082231Z
UID:62756-1777057200-1777064400@moje-djakovo.com
SUMMARY:Enes Kišević i Damir Tomić Maduna: Nije dobro\, al’ dobro je
DESCRIPTION:Enes Kišević i Damir Tomić Maduna \n  \n\nTRAVNJA 2026. U 19 SATI\n\n  \nPoetsko-glazbena predstava dvojice vrhunskih umjetnika\, \nEnesa Kiševića\, glumca i pjesnika te Damira Tomića Madune\, \ngitarista i kantautora. Program je sačinjen od Kiševićevih \nstihova posvećenih obitelji\, životu\, ženama\, vinu\, \na čut ćemo i njegovu nezaobilaznu antiratnu poeziju. \nGRADSKA KNJIŽNICA I ČITAONICA ĐAKOVO
URL:https://moje-djakovo.com/dogadaji/enes-kisevic-i-damir-tomic-maduna-nije-dobro-al-dobro-je/
LOCATION:Gradska knjižnica i čitaonica Đakovo (privremeni prostor)\, Ul. bana Josipa Jelačića 30\, Đakovo\, Hrvatska\, 31400\, Croatia (Local Name: Hrvatska)
CATEGORIES:Kino,Sva događanja
ATTACH;FMTTYPE=image/png:https://moje-djakovo.com/wp-content/uploads/2026/04/Untitled-design.png
END:VEVENT
END:VCALENDAR