BEGIN:VCALENDAR
VERSION:2.0
PRODID:-//Moje Đakovo - ECPv6.15.18//NONSGML v1.0//EN
CALSCALE:GREGORIAN
METHOD:PUBLISH
X-ORIGINAL-URL:https://moje-djakovo.com
X-WR-CALDESC:Događaji za Moje Đakovo
REFRESH-INTERVAL;VALUE=DURATION:PT1H
X-Robots-Tag:noindex
X-PUBLISHED-TTL:PT1H
BEGIN:VTIMEZONE
TZID:Europe/Zagreb
BEGIN:DAYLIGHT
TZOFFSETFROM:+0100
TZOFFSETTO:+0200
TZNAME:CEST
DTSTART:20240331T010000
END:DAYLIGHT
BEGIN:STANDARD
TZOFFSETFROM:+0200
TZOFFSETTO:+0100
TZNAME:CET
DTSTART:20241027T010000
END:STANDARD
BEGIN:DAYLIGHT
TZOFFSETFROM:+0100
TZOFFSETTO:+0200
TZNAME:CEST
DTSTART:20250330T010000
END:DAYLIGHT
BEGIN:STANDARD
TZOFFSETFROM:+0200
TZOFFSETTO:+0100
TZNAME:CET
DTSTART:20251026T010000
END:STANDARD
BEGIN:DAYLIGHT
TZOFFSETFROM:+0100
TZOFFSETTO:+0200
TZNAME:CEST
DTSTART:20260329T010000
END:DAYLIGHT
BEGIN:STANDARD
TZOFFSETFROM:+0200
TZOFFSETTO:+0100
TZNAME:CET
DTSTART:20261025T010000
END:STANDARD
END:VTIMEZONE
BEGIN:VEVENT
DTSTART;TZID=Europe/Zagreb:20250507T190000
DTEND;TZID=Europe/Zagreb:20250507T200000
DTSTAMP:20260419T143646
CREATED:20250430T174808Z
LAST-MODIFIED:20250430T174808Z
UID:57323-1746644400-1746648000@moje-djakovo.com
SUMMARY:Izložba Mislava Tadića "Prolaznost" i otvorenje novouređenog Muzeja Đakovštine
DESCRIPTION:Središnji događaj otvorenja bit će izložba mladog\, perspektivnog i izuzetnog talentiranog lokalnog slikara Mislava Tadića. Tadić je rođen 1997. godine u Osijeku. Godine 2017. završio je srednju školu u Đakovu i iste godine upisao Akademiju za umjetnost i kulturu u Osijeku. U srpnju 2023. diplomirao je slikarstvo na studiju vizualnih umjetnosti. Dosad je sudjelovao u brojnim radionicama i skupnim izložbama. Iza sebe ima već zavidan broj slikarskih djela. “Naziv ove izložbe je „Prolaznost“\, a doživljaj same izložbe kao i interijera obnovljenog Muzeja Đakovštine prepuštamo vama i radujemo se velikom odazivu naših dragih posjetitelja nakon što smo duže vrijeme bili zatvoreni za javnost  kako bismo vam mogli pružiti još ugodniji i oku privlačniji boravak u Muzeju Đakovštine.”\, poručuju iz Muzeja Đakovštine.
URL:https://moje-djakovo.com/dogadaji/izlozba-mislava-tadica-prolaznost-i-otvorenje-novouredenog-muzeja-dakovstine/
LOCATION:Muzej Đakovštine\, Ulica Ante Starčevića 34\, Đakovo\, Hrvatska\, 31400\, Croatia (Local Name: Hrvatska)
CATEGORIES:Izložbe,Sva događanja
ATTACH;FMTTYPE=image/png:https://moje-djakovo.com/wp-content/uploads/2025/04/Prolaznost.png
END:VEVENT
BEGIN:VEVENT
DTSTART;TZID=Europe/Zagreb:20250507T193000
DTEND;TZID=Europe/Zagreb:20250507T203000
DTSTAMP:20260419T143646
CREATED:20250505T043717Z
LAST-MODIFIED:20250505T043717Z
UID:57351-1746646200-1746649800@moje-djakovo.com
SUMMARY:Izložba „Duvno polje – kraljevsko prijestolje; Suvremena interpretacija predaje o krunidbi kralja Tomislava“
DESCRIPTION:Izložbu u organizaciji Općine Tomislavgrad povodom obilježavanja Dana Grada Đakova. \nFoto: Astro Orion
URL:https://moje-djakovo.com/dogadaji/izlozba-duvno-polje-kraljevsko-prijestolje-suvremena-interpretacija-predaje-o-krunidbi-kralja-tomislava/
LOCATION:Kuća Reichsmann\, Kuća Reichsmann\, Đakovo\, Hrvatska\, 31400\, Croatia (Local Name: Hrvatska)
CATEGORIES:Izložbe
ATTACH;FMTTYPE=image/png:https://moje-djakovo.com/wp-content/uploads/2023/11/Kuca-Reichsmann_Foto_Astro-Orion.png
END:VEVENT
BEGIN:VEVENT
DTSTART;TZID=Europe/Zagreb:20250521T170000
DTEND;TZID=Europe/Zagreb:20250601T130000
DTSTAMP:20260419T143646
CREATED:20250520T062911Z
LAST-MODIFIED:20250520T062911Z
UID:57714-1747846800-1748782800@moje-djakovo.com
SUMMARY:Izložba - Sve niti Tenine tkanice
DESCRIPTION:Izložbu možete posjetiti u Kući Reichsmann od 21. svibnja do 1.lipnja\, radnim danom od 17:00 do 20:00 sati\, a subotom i nedjeljom od 8:00 do 13:00 sati.
URL:https://moje-djakovo.com/dogadaji/izlozba-sve-niti-tenine-tkanice/
LOCATION:Kuća Reichsmann\, Kuća Reichsmann\, Đakovo\, Hrvatska\, 31400\, Croatia (Local Name: Hrvatska)
CATEGORIES:Izložbe,Sva događanja
ATTACH;FMTTYPE=image/png:https://moje-djakovo.com/wp-content/uploads/2025/05/Sve-niti-Tenine-tkanice.png
END:VEVENT
BEGIN:VEVENT
DTSTART;TZID=Europe/Zagreb:20250525T093000
DTEND;TZID=Europe/Zagreb:20250525T093000
DTSTAMP:20260419T143646
CREATED:20240522T070049Z
LAST-MODIFIED:20250319T062923Z
UID:51197-1748165400-1748165400@moje-djakovo.com
SUMMARY:Nacionalna izložba pasa svih pasmina CAC Đakovo 2025.
DESCRIPTION:Pod pokroviteljstvom Grada Đakova Kinološko društvo Đakovo održat će Nacionalnu izložbu pasa svih pasmina CAC Đakovo 2025. \nIzložba će ugostiti brojne uzgajivače i njihove ljubimce iz Republike Hrvatske i inozemstva. \nU okviru izložbe održava se i 31. Specijalna izložba hrvatskih ovčara. \nFoto: Grad Đakovo
URL:https://moje-djakovo.com/dogadaji/nacionalna-izlozba-pasa-svih-pasmina-cac-dakovo-2025/
LOCATION:Kinološko društvo Đakovo\, Ul. Zvečaj II bb\, Đakovo\, Đakovo\, 31400\, Croatia (Local Name: Hrvatska)
CATEGORIES:Izložbe,Sva događanja
ATTACH;FMTTYPE=image/jpeg:https://moje-djakovo.com/wp-content/uploads/2022/05/CAC-2022_Foto_Grad-Dakovo.jpg
END:VEVENT
END:VCALENDAR